BEGIN:VCALENDAR
VERSION:2.0
X-WR-CALNAME: Paul Edelman Solo
PRODID:GIGPRESS 2.0 WORDPRESS PLUGIN
CALSCALE:GREGORIAN
X-WR-TIMEZONE:Etc/GMT
METHOD:PUBLISH
BEGIN:VTIMEZONE
TZID:GMT
BEGIN:STANDARD
DTSTART:20071028T010000
TZOFFSETTO:+0000
TZOFFSETFROM:+0000
END:STANDARD
END:VTIMEZONE
BEGIN:VEVENT
SUMMARY:Paul Edelman Solo at Pig Pounder Brewery
DESCRIPTION:21 +
LOCATION:Pig Pounder Brewery\, 1107 Grecade St\,\, Greensboro\,\, US
UID:20260426T190000Z-452-palaceflophouserecords@gmail.com
URL:http://janglingsparrows.com/shows/
DTSTART;VALUE=DATE-TIME;TZID=GMT:20260426T190000Z
DTEND;VALUE=DATE-TIME;TZID=GMT:20260426T190000Z
DTSTAMP:20260423T123451Z
END:VEVENT
BEGIN:VEVENT
SUMMARY:Paul Edelman Solo at Peri Social House
DESCRIPTION:21 +
LOCATION:Peri Social House\, 406 W State St\,\, Black Mountain\,\, US
UID:20260501T210000Z-480-palaceflophouserecords@gmail.com
URL:http://janglingsparrows.com/shows/
DTSTART;VALUE=DATE-TIME;TZID=GMT:20260501T210000Z
DTEND;VALUE=DATE-TIME;TZID=GMT:20260501T210000Z
DTSTAMP:20260423T123451Z
END:VEVENT
BEGIN:VEVENT
SUMMARY:Paul Edelman Solo at frog Level Brewing
DESCRIPTION:21 +
LOCATION:frog Level Brewing\, 56 Commerce St\, Waynesville\, US
UID:20260506T213000Z-453-palaceflophouserecords@gmail.com
URL:http://janglingsparrows.com/shows/
DTSTART;VALUE=DATE-TIME;TZID=GMT:20260506T213000Z
DTEND;VALUE=DATE-TIME;TZID=GMT:20260506T213000Z
DTSTAMP:20260423T123451Z
END:VEVENT
BEGIN:VEVENT
SUMMARY:Paul Edelman Solo at The Town Pump
DESCRIPTION:21 +
LOCATION:The Town Pump\, 135 Cherry St\, Black Mountain\, US
UID:20260507T230000Z-454-palaceflophouserecords@gmail.com
URL:http://janglingsparrows.com/shows/
DTSTART;VALUE=DATE-TIME;TZID=GMT:20260507T230000Z
DTEND;VALUE=DATE-TIME;TZID=GMT:20260507T230000Z
DTSTAMP:20260423T123451Z
END:VEVENT
BEGIN:VEVENT
SUMMARY:Paul Edelman Solo at Zimmerman Vineyards
DESCRIPTION:21 +
LOCATION:Zimmerman Vineyards\, 1428 Tabernacle Church Rd\, \, Trinity\,\, US
UID:20260510T190000Z-455-palaceflophouserecords@gmail.com
URL:http://janglingsparrows.com/shows/
DTSTART;VALUE=DATE-TIME;TZID=GMT:20260510T190000Z
DTEND;VALUE=DATE-TIME;TZID=GMT:20260510T190000Z
DTSTAMP:20260423T123451Z
END:VEVENT
BEGIN:VEVENT
SUMMARY:Paul Edelman Solo at Slopeside Tavern
DESCRIPTION:21 +
LOCATION:Slopeside Tavern\, 217 Sapphire Valley Rd\,\, Sapphire\,\, US
UID:20260514T220000Z-456-palaceflophouserecords@gmail.com
URL:http://janglingsparrows.com/shows/
DTSTART;VALUE=DATE-TIME;TZID=GMT:20260514T220000Z
DTEND;VALUE=DATE-TIME;TZID=GMT:20260514T220000Z
DTSTAMP:20260423T123451Z
END:VEVENT
BEGIN:VEVENT
SUMMARY:Paul Edelman Solo at Cane Creek Vineyards
DESCRIPTION:21 +
LOCATION:Cane Creek Vineyards\, 1040 Crane Creek Rd\,\, Young Harris\,\, US
UID:20260522T200000Z-457-palaceflophouserecords@gmail.com
URL:http://janglingsparrows.com/shows/
DTSTART;VALUE=DATE-TIME;TZID=GMT:20260522T200000Z
DTEND;VALUE=DATE-TIME;TZID=GMT:20260522T200000Z
DTSTAMP:20260423T123451Z
END:VEVENT
BEGIN:VEVENT
SUMMARY:Paul Edelman Solo at Zimmerman Vineyards
DESCRIPTION:21 +
LOCATION:Zimmerman Vineyards\, 1428 Tabernacle Church Rd\, \, Trinity\,\, US
UID:20260614T190000Z-459-palaceflophouserecords@gmail.com
URL:http://janglingsparrows.com/shows/
DTSTART;VALUE=DATE-TIME;TZID=GMT:20260614T190000Z
DTEND;VALUE=DATE-TIME;TZID=GMT:20260614T190000Z
DTSTAMP:20260423T123451Z
END:VEVENT
BEGIN:VEVENT
SUMMARY:Paul Edelman Solo at Zimmerman Vineyards
DESCRIPTION:21 +
LOCATION:Zimmerman Vineyards\, 1428 Tabernacle Church Rd\, \, Trinity\,\, US
UID:20260719T190000Z-460-palaceflophouserecords@gmail.com
URL:http://janglingsparrows.com/shows/
DTSTART;VALUE=DATE-TIME;TZID=GMT:20260719T190000Z
DTEND;VALUE=DATE-TIME;TZID=GMT:20260719T190000Z
DTSTAMP:20260423T123451Z
END:VEVENT
BEGIN:VEVENT
SUMMARY:Paul Edelman Solo at Peri Social House
DESCRIPTION:21 +
LOCATION:Peri Social House\, 406 W State St\,\, Black Mountain\,\, US
UID:20260731T210000Z-481-palaceflophouserecords@gmail.com
URL:http://janglingsparrows.com/shows/
DTSTART;VALUE=DATE-TIME;TZID=GMT:20260731T210000Z
DTEND;VALUE=DATE-TIME;TZID=GMT:20260731T210000Z
DTSTAMP:20260423T123451Z
END:VEVENT
BEGIN:VEVENT
SUMMARY:Paul Edelman Solo at frog Level Brewing
DESCRIPTION:21 +
LOCATION:frog Level Brewing\, 56 Commerce St\, Waynesville\, US
UID:20260805T213000Z-461-palaceflophouserecords@gmail.com
URL:http://janglingsparrows.com/shows/
DTSTART;VALUE=DATE-TIME;TZID=GMT:20260805T213000Z
DTEND;VALUE=DATE-TIME;TZID=GMT:20260805T213000Z
DTSTAMP:20260423T123451Z
END:VEVENT
BEGIN:VEVENT
SUMMARY:Paul Edelman Solo at Casita Brewing
DESCRIPTION:21 +
LOCATION:Casita Brewing\, 217 South St S\,\, Wilson\,\, US
UID:20260807T230000Z-462-palaceflophouserecords@gmail.com
URL:http://janglingsparrows.com/shows/
DTSTART;VALUE=DATE-TIME;TZID=GMT:20260807T230000Z
DTEND;VALUE=DATE-TIME;TZID=GMT:20260807T230000Z
DTSTAMP:20260423T123451Z
END:VEVENT
BEGIN:VEVENT
SUMMARY:Paul Edelman Solo at Flytrap Brewing
DESCRIPTION:21 +
LOCATION:Flytrap Brewing\, 319 Walnut St\, \,\, Wilmington\, US
UID:20260809T190000Z-463-palaceflophouserecords@gmail.com
URL:http://janglingsparrows.com/shows/
DTSTART;VALUE=DATE-TIME;TZID=GMT:20260809T190000Z
DTEND;VALUE=DATE-TIME;TZID=GMT:20260809T190000Z
DTSTAMP:20260423T123451Z
END:VEVENT
BEGIN:VEVENT
SUMMARY:Paul Edelman Solo at Cane Creek Vineyards
DESCRIPTION:21 +
LOCATION:Cane Creek Vineyards\, 1040 Crane Creek Rd\,\, Young Harris\,\, US
UID:20260815T200000Z-464-palaceflophouserecords@gmail.com
URL:http://janglingsparrows.com/shows/
DTSTART;VALUE=DATE-TIME;TZID=GMT:20260815T200000Z
DTEND;VALUE=DATE-TIME;TZID=GMT:20260815T200000Z
DTSTAMP:20260423T123451Z
END:VEVENT
BEGIN:VEVENT
SUMMARY:Paul Edelman Solo at Lilypad Hopyard Brewery
DESCRIPTION:21 +
LOCATION:Lilypad Hopyard Brewery\, 920 Ridge Rd\,\, Lancing\,\, US
UID:20260830T180000Z-465-palaceflophouserecords@gmail.com
URL:http://janglingsparrows.com/shows/
DTSTART;VALUE=DATE-TIME;TZID=GMT:20260830T180000Z
DTEND;VALUE=DATE-TIME;TZID=GMT:20260830T180000Z
DTSTAMP:20260423T123451Z
END:VEVENT
BEGIN:VEVENT
SUMMARY:Paul Edelman Solo at frog Level Brewing
DESCRIPTION:21 +
LOCATION:frog Level Brewing\, 56 Commerce St\, Waynesville\, US
UID:20260902T213000Z-466-palaceflophouserecords@gmail.com
URL:http://janglingsparrows.com/shows/
DTSTART;VALUE=DATE-TIME;TZID=GMT:20260902T213000Z
DTEND;VALUE=DATE-TIME;TZID=GMT:20260902T213000Z
DTSTAMP:20260423T123451Z
END:VEVENT
BEGIN:VEVENT
SUMMARY:Paul Edelman Solo at The Town Pump
DESCRIPTION:21 +
LOCATION:The Town Pump\, 135 Cherry St\, Black Mountain\, US
UID:20260903T230000Z-467-palaceflophouserecords@gmail.com
URL:http://janglingsparrows.com/shows/
DTSTART;VALUE=DATE-TIME;TZID=GMT:20260903T230000Z
DTEND;VALUE=DATE-TIME;TZID=GMT:20260903T230000Z
DTSTAMP:20260423T123451Z
END:VEVENT
BEGIN:VEVENT
SUMMARY:Paul Edelman Solo at Zimmerman Vineyards
DESCRIPTION:21 +
LOCATION:Zimmerman Vineyards\, 1428 Tabernacle Church Rd\, \, Trinity\,\, US
UID:20260913T190000Z-468-palaceflophouserecords@gmail.com
URL:http://janglingsparrows.com/shows/
DTSTART;VALUE=DATE-TIME;TZID=GMT:20260913T190000Z
DTEND;VALUE=DATE-TIME;TZID=GMT:20260913T190000Z
DTSTAMP:20260423T123451Z
END:VEVENT
BEGIN:VEVENT
SUMMARY:Paul Edelman Solo at Slopeside Tavern
DESCRIPTION:21 +
LOCATION:Slopeside Tavern\, 217 Sapphire Valley Rd\,\, Sapphire\,\, US
UID:20260917T220000Z-469-palaceflophouserecords@gmail.com
URL:http://janglingsparrows.com/shows/
DTSTART;VALUE=DATE-TIME;TZID=GMT:20260917T220000Z
DTEND;VALUE=DATE-TIME;TZID=GMT:20260917T220000Z
DTSTAMP:20260423T123451Z
END:VEVENT
BEGIN:VEVENT
SUMMARY:Paul Edelman Solo at Bowen's Island Restaurant
DESCRIPTION:21 +
LOCATION:Bowen's Island Restaurant\, \,1870 Bowens Island Rd\,\, Charleston\, US
UID:20260930T220000Z-470-palaceflophouserecords@gmail.com
URL:http://janglingsparrows.com/shows/
DTSTART;VALUE=DATE-TIME;TZID=GMT:20260930T220000Z
DTEND;VALUE=DATE-TIME;TZID=GMT:20260930T220000Z
DTSTAMP:20260423T123451Z
END:VEVENT
BEGIN:VEVENT
SUMMARY:Paul Edelman Solo at Peri Social House
DESCRIPTION:21 +
LOCATION:Peri Social House\, 406 W State St\,\, Black Mountain\,\, US
UID:20261023T210000Z-482-palaceflophouserecords@gmail.com
URL:http://janglingsparrows.com/shows/
DTSTART;VALUE=DATE-TIME;TZID=GMT:20261023T210000Z
DTEND;VALUE=DATE-TIME;TZID=GMT:20261023T210000Z
DTSTAMP:20260423T123451Z
END:VEVENT
BEGIN:VEVENT
SUMMARY:Paul Edelman Solo at Zimmerman Vineyards
DESCRIPTION:21 +
LOCATION:Zimmerman Vineyards\, 1428 Tabernacle Church Rd\, \, Trinity\,\, US
UID:20261025T190000Z-471-palaceflophouserecords@gmail.com
URL:http://janglingsparrows.com/shows/
DTSTART;VALUE=DATE-TIME;TZID=GMT:20261025T190000Z
DTEND;VALUE=DATE-TIME;TZID=GMT:20261025T190000Z
DTSTAMP:20260423T123451Z
END:VEVENT
BEGIN:VEVENT
SUMMARY:Paul Edelman Solo at frog Level Brewing
DESCRIPTION:21 +
LOCATION:frog Level Brewing\, 56 Commerce St\, Waynesville\, US
UID:20261104T223000Z-472-palaceflophouserecords@gmail.com
URL:http://janglingsparrows.com/shows/
DTSTART;VALUE=DATE-TIME;TZID=GMT:20261104T223000Z
DTEND;VALUE=DATE-TIME;TZID=GMT:20261104T223000Z
DTSTAMP:20260423T123451Z
END:VEVENT
BEGIN:VEVENT
SUMMARY:Paul Edelman Solo at The Town Pump
DESCRIPTION:21 +
LOCATION:The Town Pump\, 135 Cherry St\, Black Mountain\, US
UID:20261106T000000Z-473-palaceflophouserecords@gmail.com
URL:http://janglingsparrows.com/shows/
DTSTART;VALUE=DATE-TIME;TZID=GMT:20261106T000000Z
DTEND;VALUE=DATE-TIME;TZID=GMT:20261106T000000Z
DTSTAMP:20260423T123451Z
END:VEVENT
BEGIN:VEVENT
SUMMARY:Paul Edelman Solo at Cane Creek Vineyards
DESCRIPTION:21 +
LOCATION:Cane Creek Vineyards\, 1040 Crane Creek Rd\,\, Young Harris\,\, US
UID:20261120T210000Z-474-palaceflophouserecords@gmail.com
URL:http://janglingsparrows.com/shows/
DTSTART;VALUE=DATE-TIME;TZID=GMT:20261120T210000Z
DTEND;VALUE=DATE-TIME;TZID=GMT:20261120T210000Z
DTSTAMP:20260423T123451Z
END:VEVENT
BEGIN:VEVENT
SUMMARY:Paul Edelman Solo at frog Level Brewing
DESCRIPTION:21 +
LOCATION:frog Level Brewing\, 56 Commerce St\, Waynesville\, US
UID:20261202T223000Z-476-palaceflophouserecords@gmail.com
URL:http://janglingsparrows.com/shows/
DTSTART;VALUE=DATE-TIME;TZID=GMT:20261202T223000Z
DTEND;VALUE=DATE-TIME;TZID=GMT:20261202T223000Z
DTSTAMP:20260423T123451Z
END:VEVENT
BEGIN:VEVENT
SUMMARY:Paul Edelman Solo at The Town Pump
DESCRIPTION:21 +
LOCATION:The Town Pump\, 135 Cherry St\, Black Mountain\, US
UID:20261204T000000Z-477-palaceflophouserecords@gmail.com
URL:http://janglingsparrows.com/shows/
DTSTART;VALUE=DATE-TIME;TZID=GMT:20261204T000000Z
DTEND;VALUE=DATE-TIME;TZID=GMT:20261204T000000Z
DTSTAMP:20260423T123451Z
END:VEVENT
BEGIN:VEVENT
SUMMARY:Paul Edelman Solo at Casita Brewing
DESCRIPTION:21 +
LOCATION:Casita Brewing\, 217 South St S\,\, Wilson\,\, US
UID:20261205T000000Z-478-palaceflophouserecords@gmail.com
URL:http://janglingsparrows.com/shows/
DTSTART;VALUE=DATE-TIME;TZID=GMT:20261205T000000Z
DTEND;VALUE=DATE-TIME;TZID=GMT:20261205T000000Z
DTSTAMP:20260423T123451Z
END:VEVENT
BEGIN:VEVENT
SUMMARY:Paul Edelman Solo at Flytrap Brewing
DESCRIPTION:21 +
LOCATION:Flytrap Brewing\, 319 Walnut St\, \,\, Wilmington\, US
UID:20261206T200000Z-479-palaceflophouserecords@gmail.com
URL:http://janglingsparrows.com/shows/
DTSTART;VALUE=DATE-TIME;TZID=GMT:20261206T200000Z
DTEND;VALUE=DATE-TIME;TZID=GMT:20261206T200000Z
DTSTAMP:20260423T123451Z
END:VEVENT
END:VCALENDAR