BEGIN:VCALENDAR
VERSION:2.0
X-WR-CALNAME: Local Chapter (Duo w Brad Heller from The Fustics)
PRODID:GIGPRESS 2.0 WORDPRESS PLUGIN
CALSCALE:GREGORIAN
X-WR-TIMEZONE:Etc/GMT
METHOD:PUBLISH
BEGIN:VTIMEZONE
TZID:GMT
BEGIN:STANDARD
DTSTART:20071028T010000
TZOFFSETTO:+0000
TZOFFSETFROM:+0000
END:STANDARD
END:VTIMEZONE
BEGIN:VEVENT
SUMMARY:Local Chapter (Duo w Brad Heller from The Fustics) at The Grape & Ale
DESCRIPTION:21 +
LOCATION:The Grape & Ale\, 8521 E Oak Island Dr\, Oak Island\, US
UID:20260516T180000Z-433-palaceflophouserecords@gmail.com
URL:http://janglingsparrows.com/shows/
DTSTART;VALUE=DATE-TIME;TZID=GMT:20260516T180000Z
DTEND;VALUE=DATE-TIME;TZID=GMT:20260516T180000Z
DTSTAMP:20260423T124325Z
END:VEVENT
BEGIN:VEVENT
SUMMARY:Local Chapter (Duo w Brad Heller from The Fustics) at Bowen's Island Restaurant
DESCRIPTION:21 +
LOCATION:Bowen's Island Restaurant\, \,1870 Bowens Island Rd\,\, Charleston\, US
UID:20260527T220000Z-434-palaceflophouserecords@gmail.com
URL:http://janglingsparrows.com/shows/
DTSTART;VALUE=DATE-TIME;TZID=GMT:20260527T220000Z
DTEND;VALUE=DATE-TIME;TZID=GMT:20260527T220000Z
DTSTAMP:20260423T124325Z
END:VEVENT
BEGIN:VEVENT
SUMMARY:Local Chapter (Duo w Brad Heller from The Fustics) at Bowen's Island Restaurant
DESCRIPTION:21 +
LOCATION:Bowen's Island Restaurant\, \,1870 Bowens Island Rd\,\, Charleston\, US
UID:20260527T220000Z-458-palaceflophouserecords@gmail.com
URL:http://janglingsparrows.com/shows/
DTSTART;VALUE=DATE-TIME;TZID=GMT:20260527T220000Z
DTEND;VALUE=DATE-TIME;TZID=GMT:20260527T220000Z
DTSTAMP:20260423T124325Z
END:VEVENT
BEGIN:VEVENT
SUMMARY:Local Chapter (Duo w Brad Heller from The Fustics) at Leland Brewing Company
DESCRIPTION:21 +
LOCATION:Leland Brewing Company\, 2115 Ale Ave\, Leland\, US
UID:20260529T220000Z-435-palaceflophouserecords@gmail.com
URL:http://janglingsparrows.com/shows/
DTSTART;VALUE=DATE-TIME;TZID=GMT:20260529T220000Z
DTEND;VALUE=DATE-TIME;TZID=GMT:20260529T220000Z
DTSTAMP:20260423T124325Z
END:VEVENT
BEGIN:VEVENT
SUMMARY:Local Chapter (Duo w Brad Heller from The Fustics) at The Porch at Iconostar
DESCRIPTION:Notes: Excited to be playing Wilson Music Festival! 21 +
LOCATION:The Porch at Iconostar\, 224 Goldsboro St S\,\, Wilson\,\, US
UID:20260530T160000Z-436-palaceflophouserecords@gmail.com
URL:http://janglingsparrows.com/shows/
DTSTART;VALUE=DATE-TIME;TZID=GMT:20260530T160000Z
DTEND;VALUE=DATE-TIME;TZID=GMT:20260530T160000Z
DTSTAMP:20260423T124325Z
END:VEVENT
BEGIN:VEVENT
SUMMARY:Local Chapter (Duo w Brad Heller from The Fustics) at Flytrap Brewing
DESCRIPTION:All Ages
LOCATION:Flytrap Brewing\, 319 Walnut St\, \,\, Wilmington\, US
UID:20260531T190000Z-437-palaceflophouserecords@gmail.com
URL:http://janglingsparrows.com/shows/
DTSTART;VALUE=DATE-TIME;TZID=GMT:20260531T190000Z
DTEND;VALUE=DATE-TIME;TZID=GMT:20260531T190000Z
DTSTAMP:20260423T124325Z
END:VEVENT
BEGIN:VEVENT
SUMMARY:Local Chapter (Duo w Brad Heller from The Fustics) at The Town Pump
DESCRIPTION:21 +
LOCATION:The Town Pump\, 135 Cherry St\, Black Mountain\, US
UID:20260625T230000Z-438-palaceflophouserecords@gmail.com
URL:http://janglingsparrows.com/shows/
DTSTART;VALUE=DATE-TIME;TZID=GMT:20260625T230000Z
DTEND;VALUE=DATE-TIME;TZID=GMT:20260625T230000Z
DTSTAMP:20260423T124325Z
END:VEVENT
BEGIN:VEVENT
SUMMARY:Local Chapter (Duo w Brad Heller from The Fustics) at frog Level Brewing
DESCRIPTION:21 +
LOCATION:frog Level Brewing\, 56 Commerce St\, Waynesville\, US
UID:20260626T220000Z-439-palaceflophouserecords@gmail.com
URL:http://janglingsparrows.com/shows/
DTSTART;VALUE=DATE-TIME;TZID=GMT:20260626T220000Z
DTEND;VALUE=DATE-TIME;TZID=GMT:20260626T220000Z
DTSTAMP:20260423T124325Z
END:VEVENT
BEGIN:VEVENT
SUMMARY:Local Chapter (Duo w Brad Heller from The Fustics) at Pig Pounder Brewery
DESCRIPTION:21 +
LOCATION:Pig Pounder Brewery\, 1107 Grecade St\,\, Greensboro\,\, US
UID:20260628T190000Z-440-palaceflophouserecords@gmail.com
URL:http://janglingsparrows.com/shows/
DTSTART;VALUE=DATE-TIME;TZID=GMT:20260628T190000Z
DTEND;VALUE=DATE-TIME;TZID=GMT:20260628T190000Z
DTSTAMP:20260423T124325Z
END:VEVENT
BEGIN:VEVENT
SUMMARY:Local Chapter (Duo w Brad Heller from The Fustics) at Shoals Club
DESCRIPTION:21 +
LOCATION:Shoals Club\, 100 Station House Way\, Bald Head Island\, US
UID:20260630T090000Z-441-palaceflophouserecords@gmail.com
URL:http://janglingsparrows.com/shows/
DTSTART;VALUE=DATE-TIME;TZID=GMT:20260630T090000Z
DTEND;VALUE=DATE-TIME;TZID=GMT:20260630T090000Z
DTSTAMP:20260423T124325Z
END:VEVENT
BEGIN:VEVENT
SUMMARY:Local Chapter (Duo w Brad Heller from The Fustics) at Lone Rider Brewing | Oak Island
DESCRIPTION:21 +
LOCATION:Lone Rider Brewing | Oak Island\, 57th Pl W\, Oak Island\, US
UID:20260702T200000Z-442-palaceflophouserecords@gmail.com
URL:http://janglingsparrows.com/shows/
DTSTART;VALUE=DATE-TIME;TZID=GMT:20260702T200000Z
DTEND;VALUE=DATE-TIME;TZID=GMT:20260702T200000Z
DTSTAMP:20260423T124325Z
END:VEVENT
BEGIN:VEVENT
SUMMARY:Local Chapter (Duo w Brad Heller from The Fustics) at Rusty Hooks Dockside Grill
DESCRIPTION:
LOCATION:Rusty Hooks Dockside Grill\, 4907 Fish Factory Rd SE\, Southport\, US
UID:20260707T200000Z-443-palaceflophouserecords@gmail.com
URL:http://janglingsparrows.com/shows/
DTSTART;VALUE=DATE-TIME;TZID=GMT:20260707T200000Z
DTEND;VALUE=DATE-TIME;TZID=GMT:20260707T200000Z
DTSTAMP:20260423T124325Z
END:VEVENT
BEGIN:VEVENT
SUMMARY:Local Chapter (Duo w Brad Heller from The Fustics) at Leland Brewing Company
DESCRIPTION:
LOCATION:Leland Brewing Company\, 2115 Ale Ave\, Leland\, US
UID:20261002T200000Z-444-palaceflophouserecords@gmail.com
URL:http://janglingsparrows.com/shows/
DTSTART;VALUE=DATE-TIME;TZID=GMT:20261002T200000Z
DTEND;VALUE=DATE-TIME;TZID=GMT:20261002T200000Z
DTSTAMP:20260423T124325Z
END:VEVENT
BEGIN:VEVENT
SUMMARY:Local Chapter (Duo w Brad Heller from The Fustics) at Wrightsville Beach Brewing
DESCRIPTION:
LOCATION:Wrightsville Beach Brewing\, 6201 Oleander Dr\,\, Wilmington\,\, US
UID:20261006T200000Z-445-palaceflophouserecords@gmail.com
URL:http://janglingsparrows.com/shows/
DTSTART;VALUE=DATE-TIME;TZID=GMT:20261006T200000Z
DTEND;VALUE=DATE-TIME;TZID=GMT:20261006T200000Z
DTSTAMP:20260423T124325Z
END:VEVENT
BEGIN:VEVENT
SUMMARY:Local Chapter (Duo w Brad Heller from The Fustics) at Flytrap Brewing
DESCRIPTION:All Ages
LOCATION:Flytrap Brewing\, 319 Walnut St\, \,\, Wilmington\, US
UID:20261011T190000Z-446-palaceflophouserecords@gmail.com
URL:http://janglingsparrows.com/shows/
DTSTART;VALUE=DATE-TIME;TZID=GMT:20261011T190000Z
DTEND;VALUE=DATE-TIME;TZID=GMT:20261011T190000Z
DTSTAMP:20260423T124325Z
END:VEVENT
END:VCALENDAR